BEGIN:VCALENDAR
VERSION:2.0
PRODID:-//One Kids Place - ECPv6.15.20//NONSGML v1.0//EN
CALSCALE:GREGORIAN
METHOD:PUBLISH
X-WR-CALNAME:One Kids Place
X-ORIGINAL-URL:https://www.onekidsplace.ca
X-WR-CALDESC:Events for One Kids Place
REFRESH-INTERVAL;VALUE=DURATION:PT1H
X-Robots-Tag:noindex
X-PUBLISHED-TTL:PT1H
BEGIN:VTIMEZONE
TZID:America/Toronto
BEGIN:DAYLIGHT
TZOFFSETFROM:-0500
TZOFFSETTO:-0400
TZNAME:EDT
DTSTART:20230312T070000
END:DAYLIGHT
BEGIN:STANDARD
TZOFFSETFROM:-0400
TZOFFSETTO:-0500
TZNAME:EST
DTSTART:20231105T060000
END:STANDARD
BEGIN:DAYLIGHT
TZOFFSETFROM:-0500
TZOFFSETTO:-0400
TZNAME:EDT
DTSTART:20240310T070000
END:DAYLIGHT
BEGIN:STANDARD
TZOFFSETFROM:-0400
TZOFFSETTO:-0500
TZNAME:EST
DTSTART:20241103T060000
END:STANDARD
BEGIN:DAYLIGHT
TZOFFSETFROM:-0500
TZOFFSETTO:-0400
TZNAME:EDT
DTSTART:20250309T070000
END:DAYLIGHT
BEGIN:STANDARD
TZOFFSETFROM:-0400
TZOFFSETTO:-0500
TZNAME:EST
DTSTART:20251102T060000
END:STANDARD
BEGIN:DAYLIGHT
TZOFFSETFROM:-0500
TZOFFSETTO:-0400
TZNAME:EDT
DTSTART:20260308T070000
END:DAYLIGHT
BEGIN:STANDARD
TZOFFSETFROM:-0400
TZOFFSETTO:-0500
TZNAME:EST
DTSTART:20261101T060000
END:STANDARD
END:VTIMEZONE
BEGIN:VEVENT
DTSTART;TZID=America/Toronto:20250719T083000
DTEND;TZID=America/Toronto:20250719T153000
DTSTAMP:20260419T165727
CREATED:20250703T175918Z
LAST-MODIFIED:20250703T175918Z
UID:10000207-1752913800-1752939000@www.onekidsplace.ca
SUMMARY:Beach Volleyball Smash
DESCRIPTION:Hey Parry Sound!\n\n\nHave you signed up for the Beach Volleyball Smash yet?\nThis annual event is organized by our community champion Jazzy and raises much needed funds for our children and youth with special needs.\n\n\nVolleyball\, sunshine\, community spirit and fun… what more could you ask for!\n\n\nReach out to Jazzy today! Jazzy Badger-Macleod\n705-346-2552
URL:https://www.onekidsplace.ca/event/beach-volleyball-smash/
LOCATION:Waubuno Beach\, Parry Sound\, Ontario
CATEGORIES:Family Event,Fundraiser,Parry Sound
END:VEVENT
BEGIN:VEVENT
DTSTART;VALUE=DATE:20250402
DTEND;VALUE=DATE:20250403
DTSTAMP:20260419T165727
CREATED:20250117T142507Z
LAST-MODIFIED:20250117T142507Z
UID:10000187-1743552000-1743638399@www.onekidsplace.ca
SUMMARY:World Autism Awareness Day
DESCRIPTION:
URL:https://www.onekidsplace.ca/event/world-autism-awareness-day/
CATEGORIES:Autism Services,Family Event,Huntsville,Muskoka,North Bay,Parry Sound
END:VEVENT
BEGIN:VEVENT
DTSTART;TZID=America/Toronto:20250310T080000
DTEND;TZID=America/Toronto:20250314T170000
DTSTAMP:20260419T165727
CREATED:20250117T141711Z
LAST-MODIFIED:20250117T141711Z
UID:10000185-1741593600-1741971600@www.onekidsplace.ca
SUMMARY:March Break
DESCRIPTION:It’s March Break! \n       
URL:https://www.onekidsplace.ca/event/march-break-2/
CATEGORIES:Family Event,Holiday,Huntsville,Muskoka,North Bay,Parry Sound
END:VEVENT
BEGIN:VEVENT
DTSTART;TZID=America/Toronto:20250301T080000
DTEND;TZID=America/Toronto:20250331T170000
DTSTAMP:20260419T165727
CREATED:20250117T135458Z
LAST-MODIFIED:20250117T143009Z
UID:10000113-1740816000-1743440400@www.onekidsplace.ca
SUMMARY:March is National Social Work Month
DESCRIPTION:Our Social Work services provide comprehensive support to children\, youth\, and their families which includes assistance in identifying necessary services\, developing parenting and behavior strategies\, securing appropriate funding\, and facilitating referrals following a new diagnosis\, all while they receive other therapy services at One Kids Place. \n                    \n 
URL:https://www.onekidsplace.ca/event/march-is-national-social-media-month/
CATEGORIES:Huntsville,Muskoka,North Bay,Parry Sound
END:VEVENT
BEGIN:VEVENT
DTSTART;VALUE=DATE:20250214
DTEND;VALUE=DATE:20250215
DTSTAMP:20260419T165727
CREATED:20250212T210332Z
LAST-MODIFIED:20250212T210332Z
UID:10000189-1739491200-1739577599@www.onekidsplace.ca
SUMMARY:Happy Valentine's Day
DESCRIPTION:
URL:https://www.onekidsplace.ca/event/happy-valentines-day/
CATEGORIES:Family Event,Holiday,Huntsville,Muskoka,North Bay,Parry Sound
END:VEVENT
BEGIN:VEVENT
DTSTART;TZID=America/Toronto:20250201T080000
DTEND;TZID=America/Toronto:20250228T170000
DTSTAMP:20260419T165727
CREATED:20250117T134448Z
LAST-MODIFIED:20250117T142833Z
UID:10000112-1738396800-1740762000@www.onekidsplace.ca
SUMMARY:February is National Therapeutic Recreation Month
DESCRIPTION:One Kids Place Therapeutic Recreation services offers treatment\, education and recreation participation to enable children and youth with physical\, cognitive\, emotional and/or social limitations to acquire and maintain a healthy lifestyle. For more information\, contact our team today!       services@onekidsplace.ca \n              \n  \n 
URL:https://www.onekidsplace.ca/event/february-is-national-therapeutic-recreation-month/
CATEGORIES:Huntsville,Muskoka,North Bay,Parry Sound
END:VEVENT
BEGIN:VEVENT
DTSTART;VALUE=DATE:20241120
DTEND;VALUE=DATE:20241121
DTSTAMP:20260419T165727
CREATED:20241028T140719Z
LAST-MODIFIED:20241028T140719Z
UID:10000107-1732060800-1732147199@www.onekidsplace.ca
SUMMARY:National Child Day
DESCRIPTION:
URL:https://www.onekidsplace.ca/event/national-child-day/
CATEGORIES:Family Event,Huntsville,Muskoka,North Bay,Parry Sound
END:VEVENT
BEGIN:VEVENT
DTSTART;VALUE=DATE:20241114
DTEND;VALUE=DATE:20241115
DTSTAMP:20260419T165727
CREATED:20241028T140124Z
LAST-MODIFIED:20241028T140604Z
UID:10000184-1731542400-1731628799@www.onekidsplace.ca
SUMMARY:NoahStrong Jersey Day
DESCRIPTION:The NoahStrong organization emerged from the enormous impact of Noah Dugas who humbly united and inspired communities through exemplary values of kindness\, compassion\, determination and bravery. \nJersey Day is way to remember and bring awareness to his legacy.
URL:https://www.onekidsplace.ca/event/noahstrong-jersey-day/
CATEGORIES:Family Event,Huntsville,Muskoka,North Bay,Parry Sound
END:VEVENT
BEGIN:VEVENT
DTSTART;VALUE=DATE:20241031
DTEND;VALUE=DATE:20241101
DTSTAMP:20260419T165727
CREATED:20240812T170159Z
LAST-MODIFIED:20240812T170159Z
UID:10000167-1730332800-1730419199@www.onekidsplace.ca
SUMMARY:It's Halloween!
DESCRIPTION:Be safe and have fun!
URL:https://www.onekidsplace.ca/event/its-halloween/
CATEGORIES:Family Event,Huntsville,Muskoka,North Bay,Parry Sound
END:VEVENT
BEGIN:VEVENT
DTSTART;TZID=America/Toronto:20241011T070000
DTEND;TZID=America/Toronto:20241014T170000
DTSTAMP:20260419T165727
CREATED:20240812T140800Z
LAST-MODIFIED:20240812T140800Z
UID:10000158-1728630000-1728925200@www.onekidsplace.ca
SUMMARY:Thanksgiving Holiday
DESCRIPTION:Thanksgiving is an annual holiday celebrating the harvest and other blessings of the past year. \nA great opportunity to say thank you to those in your life that have made an impact or helped you. \nOur offices will be closed for the weekend\, reopening on Tuesday October 15\, 2024. \nHappy Thanksgiving to all our children\, youth\, families and community champions!
URL:https://www.onekidsplace.ca/event/thanksgiving-holiday/
CATEGORIES:Family Event,Holiday,Huntsville,Muskoka,North Bay,Parry Sound
END:VEVENT
BEGIN:VEVENT
DTSTART;TZID=America/Toronto:20241001T060000
DTEND;TZID=America/Toronto:20241031T110000
DTSTAMP:20260419T165727
CREATED:20240924T152503Z
LAST-MODIFIED:20240924T152503Z
UID:10000183-1727762400-1730372400@www.onekidsplace.ca
SUMMARY:October is Occupational Therapy Month!
DESCRIPTION:Occupational Therapy is a service to promote self-care activities\, productive play and leisure activities for children that might display: \n\nlow muscle tone\nfine motor delays; including: colouring\, drawing\, cutting\, printing\npoor play skills\ndifficulty focusing and paying attention\nfeeding difficulties\nclumsy/awkward movements\n\nIf you have questions\, reach out to us today!
URL:https://www.onekidsplace.ca/event/october-is-occupational-therapy-month/
CATEGORIES:Family Event,Huntsville,Muskoka,North Bay,Parry Sound
END:VEVENT
BEGIN:VEVENT
DTSTART;VALUE=DATE:20240930
DTEND;VALUE=DATE:20241001
DTSTAMP:20260419T165727
CREATED:20240812T143019Z
LAST-MODIFIED:20240812T143019Z
UID:10000161-1727654400-1727740799@www.onekidsplace.ca
SUMMARY:National Day for Truth and Reconciliation
DESCRIPTION:  \n  \nEach year\, September 30 marks the National Day for Truth and Reconciliation. \nThe day honours the children who never returned home and Survivors of residential schools\, as well as their families and communities. \nBoth the National Day for Truth and Reconciliation and Orange Shirt Day take place on September 30. \nOrange Shirt Day is an Indigenous-led grassroots commemorative day intended to raise awareness of the individual\, family and community inter-generational impacts of residential schools\, and to promote the concept of “Every Child Matters”.  The orange shirt is a symbol of the stripping away of culture\, freedom and self-esteem experienced by Indigenous children over generations. \nWe encourage everyone to wear orange today to honour the thousands of Survivors of residential schools.
URL:https://www.onekidsplace.ca/event/national-day-for-truth-and-reconciliation-2/
CATEGORIES:Family Event,Huntsville,Muskoka,North Bay,Parry Sound
END:VEVENT
BEGIN:VEVENT
DTSTART;VALUE=DATE:20240929
DTEND;VALUE=DATE:20240930
DTSTAMP:20260419T165727
CREATED:20240812T142623Z
LAST-MODIFIED:20240812T142623Z
UID:10000160-1727568000-1727654399@www.onekidsplace.ca
SUMMARY:National Coffee Day
DESCRIPTION:Did you know that Canadian coffee drinkers consume an average of 2.7 cups per day? \nAre you a coffee drinker? \nWhere is your favorite coffee shop? Make sure to stop by today and celebrate with a cup of coffee!
URL:https://www.onekidsplace.ca/event/national-coffee-day-2/
CATEGORIES:Huntsville,Muskoka,North Bay,Parry Sound
END:VEVENT
BEGIN:VEVENT
DTSTART;VALUE=DATE:20240922
DTEND;VALUE=DATE:20240923
DTSTAMP:20260419T165727
CREATED:20240812T150039Z
LAST-MODIFIED:20240812T150039Z
UID:10000162-1726963200-1727049599@www.onekidsplace.ca
SUMMARY:First Day of Fall
DESCRIPTION:Today is the first day of Fall… changing leaves\, apple picking\, sweater weather and everything pumpkin spice!
URL:https://www.onekidsplace.ca/event/first-day-of-fall-2/
CATEGORIES:Huntsville,Muskoka,North Bay,Parry Sound
END:VEVENT
BEGIN:VEVENT
DTSTART;VALUE=DATE:20240903
DTEND;VALUE=DATE:20240904
DTSTAMP:20260419T165727
CREATED:20240812T152047Z
LAST-MODIFIED:20240812T152047Z
UID:10000165-1725321600-1725407999@www.onekidsplace.ca
SUMMARY:First Day of School 2024
DESCRIPTION:OKP is wishing all our students\, teachers\, EAs and all school staff a wonderful first day back to school! \n 
URL:https://www.onekidsplace.ca/event/first-day-of-school-2024/
CATEGORIES:Family Event,Huntsville,Muskoka,North Bay,Parry Sound
END:VEVENT
BEGIN:VEVENT
DTSTART;TZID=America/Toronto:20240830T080000
DTEND;TZID=America/Toronto:20240902T170000
DTSTAMP:20260419T165727
CREATED:20240812T150600Z
LAST-MODIFIED:20240812T150654Z
UID:10000164-1725004800-1725296400@www.onekidsplace.ca
SUMMARY:The last Long Weekend of Summer
DESCRIPTION: 
URL:https://www.onekidsplace.ca/event/14559/
CATEGORIES:Family Event,Holiday,Huntsville,Muskoka,North Bay,Parry Sound
END:VEVENT
BEGIN:VEVENT
DTSTART;VALUE=DATE:20240817
DTEND;VALUE=DATE:20240818
DTSTAMP:20260419T165727
CREATED:20240812T150435Z
LAST-MODIFIED:20240812T155845Z
UID:10000163-1723852800-1723939199@www.onekidsplace.ca
SUMMARY:National Non Profit Day 2024
DESCRIPTION:National Nonprofit Day is commemorated on August 17 each year to recognize nonprofit organizations’ ongoing efforts to serve the local community. \nIf you’ve ever volunteered\, you’re well aware of the significance of these charitable organizations. \nOne Kids Place would like to recognize the efforts of all our invaluable volunteers every day and the amazing community champions for their loyalty and support of all our children\, youth and families.
URL:https://www.onekidsplace.ca/event/national-non-profit-day-2024/
CATEGORIES:Fundraiser,Huntsville,Muskoka,North Bay,Parry Sound
END:VEVENT
BEGIN:VEVENT
DTSTART;TZID=America/Toronto:20240720T090000
DTEND;TZID=America/Toronto:20240720T170000
DTSTAMP:20260419T165727
CREATED:20240130T154304Z
LAST-MODIFIED:20240130T154304Z
UID:10000140-1721466000-1721494800@www.onekidsplace.ca
SUMMARY:Annual Smash Beach Volleyball Event
DESCRIPTION:For more information or to register contact Jazzy: \n(705) 346-2552 \nbadgerjazzy@gmail.com \n\n 
URL:https://www.onekidsplace.ca/event/annual-smash-beach-volleyball-event/
LOCATION:Waubuno Beach\, Parry Sound\, Ontario
CATEGORIES:Fundraiser,Parry Sound
END:VEVENT
BEGIN:VEVENT
DTSTART;VALUE=DATE:20240701
DTEND;VALUE=DATE:20240702
DTSTAMP:20260419T165728
CREATED:20240625T160759Z
LAST-MODIFIED:20240625T160759Z
UID:10000154-1719792000-1719878399@www.onekidsplace.ca
SUMMARY:Happy Canada Day 2024
DESCRIPTION:Wishing all our children\, youth\, families and community champions a wonderful Canada Day! \nAll One Kids Place locations will be closed today but reopen on Tuesday July 2nd at 8:30am. \nHave a wonderful Canada Day long weekend \n.
URL:https://www.onekidsplace.ca/event/happy-canada-day-2024/
CATEGORIES:Holiday,Muskoka,North Bay,Parry Sound
END:VEVENT
END:VCALENDAR