BEGIN:VCALENDAR
VERSION:2.0
PRODID:-//One Kids Place - ECPv6.15.20//NONSGML v1.0//EN
CALSCALE:GREGORIAN
METHOD:PUBLISH
X-WR-CALNAME:One Kids Place
X-ORIGINAL-URL:https://www.onekidsplace.ca
X-WR-CALDESC:Events for One Kids Place
REFRESH-INTERVAL;VALUE=DURATION:PT1H
X-Robots-Tag:noindex
X-PUBLISHED-TTL:PT1H
BEGIN:VTIMEZONE
TZID:America/Toronto
BEGIN:DAYLIGHT
TZOFFSETFROM:-0500
TZOFFSETTO:-0400
TZNAME:EDT
DTSTART:20250309T070000
END:DAYLIGHT
BEGIN:STANDARD
TZOFFSETFROM:-0400
TZOFFSETTO:-0500
TZNAME:EST
DTSTART:20251102T060000
END:STANDARD
BEGIN:DAYLIGHT
TZOFFSETFROM:-0500
TZOFFSETTO:-0400
TZNAME:EDT
DTSTART:20260308T070000
END:DAYLIGHT
BEGIN:STANDARD
TZOFFSETFROM:-0400
TZOFFSETTO:-0500
TZNAME:EST
DTSTART:20261101T060000
END:STANDARD
BEGIN:DAYLIGHT
TZOFFSETFROM:-0500
TZOFFSETTO:-0400
TZNAME:EDT
DTSTART:20270314T070000
END:DAYLIGHT
BEGIN:STANDARD
TZOFFSETFROM:-0400
TZOFFSETTO:-0500
TZNAME:EST
DTSTART:20271107T060000
END:STANDARD
END:VTIMEZONE
BEGIN:VEVENT
DTSTART;TZID=America/Toronto:20260401T080000
DTEND;TZID=America/Toronto:20260430T170000
DTSTAMP:20260422T210338
CREATED:20260417T172946Z
LAST-MODIFIED:20260417T172946Z
UID:10000224-1775030400-1777568400@www.onekidsplace.ca
SUMMARY:April is Autism Awareness Month
DESCRIPTION:This month\, we take time to learn\, listen\, and grow together. \nAutism Awareness Month reminds us that every child deserves acceptance\, respect\, and the chance to thrive.\nFor questions about our Autism Services or Behaviour Services reach out to our team TODAY! \nWe are here for you and your familiy!
URL:https://www.onekidsplace.ca/event/april-is-autism-awareness-month/
CATEGORIES:Autism Services,Family Event,Huntsville,Muskoka,North Bay,Parry Sound
END:VEVENT
BEGIN:VEVENT
DTSTART;VALUE=DATE:20260506
DTEND;VALUE=DATE:20260507
DTSTAMP:20260422T210338
CREATED:20260417T173559Z
LAST-MODIFIED:20260417T173559Z
UID:10000225-1778025600-1778111999@www.onekidsplace.ca
SUMMARY:It's McHappy Day!
DESCRIPTION:McHappy Day reminds us how powerful communities can be. \nWhen we come together\, we help local organizations\, like North Bay Regional Health Care Centre and One Kids Place\, we can continue the work that lifts families up during some of their toughest moments. \nThank you for supporting a cause that keeps care\, compassion\, and connection close to home and for helping make a difference. \nJoin One Kids Place at the Lakeshore Drive location in North Bay on May 6th….we look forward to seeing you!
URL:https://www.onekidsplace.ca/event/its-mchappy-day/
CATEGORIES:Family Event,Fundraiser
END:VEVENT
END:VCALENDAR