BEGIN:VCALENDAR
VERSION:2.0
PRODID:-//One Kids Place - ECPv6.15.20//NONSGML v1.0//EN
CALSCALE:GREGORIAN
METHOD:PUBLISH
X-WR-CALNAME:One Kids Place
X-ORIGINAL-URL:https://www.onekidsplace.ca
X-WR-CALDESC:Events for One Kids Place
REFRESH-INTERVAL;VALUE=DURATION:PT1H
X-Robots-Tag:noindex
X-PUBLISHED-TTL:PT1H
BEGIN:VTIMEZONE
TZID:America/Toronto
BEGIN:DAYLIGHT
TZOFFSETFROM:-0500
TZOFFSETTO:-0400
TZNAME:EDT
DTSTART:20230312T070000
END:DAYLIGHT
BEGIN:STANDARD
TZOFFSETFROM:-0400
TZOFFSETTO:-0500
TZNAME:EST
DTSTART:20231105T060000
END:STANDARD
BEGIN:DAYLIGHT
TZOFFSETFROM:-0500
TZOFFSETTO:-0400
TZNAME:EDT
DTSTART:20240310T070000
END:DAYLIGHT
BEGIN:STANDARD
TZOFFSETFROM:-0400
TZOFFSETTO:-0500
TZNAME:EST
DTSTART:20241103T060000
END:STANDARD
BEGIN:DAYLIGHT
TZOFFSETFROM:-0500
TZOFFSETTO:-0400
TZNAME:EDT
DTSTART:20250309T070000
END:DAYLIGHT
BEGIN:STANDARD
TZOFFSETFROM:-0400
TZOFFSETTO:-0500
TZNAME:EST
DTSTART:20251102T060000
END:STANDARD
BEGIN:DAYLIGHT
TZOFFSETFROM:-0500
TZOFFSETTO:-0400
TZNAME:EDT
DTSTART:20260308T070000
END:DAYLIGHT
BEGIN:STANDARD
TZOFFSETFROM:-0400
TZOFFSETTO:-0500
TZNAME:EST
DTSTART:20261101T060000
END:STANDARD
BEGIN:DAYLIGHT
TZOFFSETFROM:-0500
TZOFFSETTO:-0400
TZNAME:EDT
DTSTART:20270314T070000
END:DAYLIGHT
BEGIN:STANDARD
TZOFFSETFROM:-0400
TZOFFSETTO:-0500
TZNAME:EST
DTSTART:20271107T060000
END:STANDARD
END:VTIMEZONE
BEGIN:VEVENT
DTSTART;TZID=America/Toronto:20260221T100000
DTEND;TZID=America/Toronto:20260221T150000
DTSTAMP:20260423T103159
CREATED:20260102T211313Z
LAST-MODIFIED:20260102T211313Z
UID:10000214-1771668000-1771686000@www.onekidsplace.ca
SUMMARY:2026 Ride for Jack
DESCRIPTION:The Ride for Jack is an annual event held in memory of Jack Lyons. \nIt’s a fun-filled day of winter fat biking that brings people together to celebrate Jack’s legacy while raising funds for One Kids Place. \nAll proceeds go toward supporting specialty programming and camps for children with Autism\, helping them access opportunities that make a real difference in their lives
URL:https://www.onekidsplace.ca/event/2026-ride-for-jack/
LOCATION:Macpherson Boat Launch\, 1016 Macpherson Drive\, Corbeil\, ON
CATEGORIES:Autism Services,Family Event,Fundraiser,North Bay
END:VEVENT
BEGIN:VEVENT
DTSTART;VALUE=DATE:20260216
DTEND;VALUE=DATE:20260217
DTSTAMP:20260423T103159
CREATED:20260126T143406Z
LAST-MODIFIED:20260126T143406Z
UID:10000217-1771200000-1771286399@www.onekidsplace.ca
SUMMARY:Family Day- Offices closed and Breakfast in Callander
DESCRIPTION:All One Kids Place locations will be closed today in celebration of Family Day. \nOne Kids Place will be hosting a Family Breakfast at the Callander Community Centre from 9AM to 11AM. \nJoin us for breakfast\, activities and games!
URL:https://www.onekidsplace.ca/event/family-day-offices-closed-and-breakfast-in-callander/
CATEGORIES:Family Event,Holiday,North Bay
END:VEVENT
BEGIN:VEVENT
DTSTART;TZID=America/Toronto:20260126T080000
DTEND;TZID=America/Toronto:20260214T170000
DTSTAMP:20260423T103159
CREATED:20260126T135543Z
LAST-MODIFIED:20260126T135543Z
UID:10000215-1769414400-1771088400@www.onekidsplace.ca
SUMMARY:Boston Pizza Heart Initiative
DESCRIPTION:Boston Pizza North Bay is once again supporting One Kids Place and we are so grateful for their year-round support. \nThe Valentine’s Day initiative has started locally and with the purchase of a paper heart\, both in restaurant and at OKP\, monies will support our children\, youth and families. \nPlease share with your networks\, friends\, and family! \nEnjoy a heart shaped pizza and spread the love….
URL:https://www.onekidsplace.ca/event/boston-pizza-heart-initiative/
LOCATION:Boston Pizza North Bay
CATEGORIES:Family Event,Fundraiser,North Bay
END:VEVENT
BEGIN:VEVENT
DTSTART;TZID=America/Toronto:20251004T090000
DTEND;TZID=America/Toronto:20251004T120000
DTSTAMP:20260423T103159
CREATED:20250703T165822Z
LAST-MODIFIED:20250703T165822Z
UID:10000199-1759568400-1759579200@www.onekidsplace.ca
SUMMARY:2025 Gather & Grow
DESCRIPTION:Families with children up to 6 years of age\, connect with local community groups for a fun and interactive morning with FREE activities\, food and refreshments!
URL:https://www.onekidsplace.ca/event/2025-gather-grow/
LOCATION:North Bay – One Kids Place\, 400 McKeown Avenue\, North Bay\, Ontario\, Canada
CATEGORIES:Family Event,North Bay
END:VEVENT
BEGIN:VEVENT
DTSTART;VALUE=DATE:20250927
DTEND;VALUE=DATE:20250928
DTSTAMP:20260423T103159
CREATED:20250703T180829Z
LAST-MODIFIED:20260309T153318Z
UID:10000209-1758931200-1759017599@www.onekidsplace.ca
SUMMARY:Chat4Chad Charity Softball Tournament
DESCRIPTION:Our friends from North Bay Hydro are excited to host the Chat4Chad Charity Softball Tournament taking place on Saturday\, September 27. \nEveryone is invited to join for a day of fun\, connection\, and community support. \n \n  \nThis event is a great way to get involved; no softball experience necessary. Just bring a team\, some energy\, and a shared commitment to making a difference. All proceeds go toward supporting Chat4Chad’s mission of bringing awareness\, resources\, and funding to those who need it most\, with a particular focus on removing the stigma associated with mental health.
URL:https://www.onekidsplace.ca/event/chat4chad-charity-softball-tournament/
LOCATION:Steve Omischl Sports Complex
CATEGORIES:Family Event,Fundraiser,North Bay
END:VEVENT
BEGIN:VEVENT
DTSTART;TZID=America/Toronto:20250913T100000
DTEND;TZID=America/Toronto:20250913T130000
DTSTAMP:20260423T103159
CREATED:20250703T165608Z
LAST-MODIFIED:20250703T165608Z
UID:10000198-1757757600-1757768400@www.onekidsplace.ca
SUMMARY:2025 Meet a Machine event
DESCRIPTION:This free\, fun\, hands-on event allows you to touch\, explore and get up close and personal with a variety of different machines and vehicles. \nCome and explore!
URL:https://www.onekidsplace.ca/event/2025-meet-a-machine-event/
LOCATION:447 McKeown Ave\, North Bay
CATEGORIES:Family Event,North Bay
END:VEVENT
BEGIN:VEVENT
DTSTART;TZID=America/Toronto:20250829T180000
DTEND;TZID=America/Toronto:20250829T213000
DTSTAMP:20260423T103159
CREATED:20250728T163412Z
LAST-MODIFIED:20250828T123459Z
UID:10000210-1756490400-1756503000@www.onekidsplace.ca
SUMMARY:Outdoor Movie Night at our Nipissing site
DESCRIPTION:Mark your calendars! \nWe are excited to be hosting an Outdoor Movie Night\, open to all clients\, families\, and community members! \nThe evening will begin at 6:30 PM with a live performance by the amazing magician WonderPhil\, (https://youtu.be/3RmTaNR_XkQ) followed by a showing of the animated favourite How to Train Your Dragon. \nBBQ and concessions will be available for purchase\, but the event is free\, thanks to our friends from Rebuilt Resources! \nBring your lawn chairs\, blanket and come enjoy a fun and family-friendly night under the stars. \n \n 
URL:https://www.onekidsplace.ca/event/outdoor-movie-night-at-our-nipissing-site/
LOCATION:North Bay – One Kids Place\, 400 McKeown Avenue\, North Bay\, Ontario\, Canada
CATEGORIES:Family Event,North Bay
END:VEVENT
BEGIN:VEVENT
DTSTART;TZID=America/Toronto:20250719T083000
DTEND;TZID=America/Toronto:20250719T153000
DTSTAMP:20260423T103159
CREATED:20250703T175918Z
LAST-MODIFIED:20250703T175918Z
UID:10000207-1752913800-1752939000@www.onekidsplace.ca
SUMMARY:Beach Volleyball Smash
DESCRIPTION:Hey Parry Sound!\n\n\nHave you signed up for the Beach Volleyball Smash yet?\nThis annual event is organized by our community champion Jazzy and raises much needed funds for our children and youth with special needs.\n\n\nVolleyball\, sunshine\, community spirit and fun… what more could you ask for!\n\n\nReach out to Jazzy today! Jazzy Badger-Macleod\n705-346-2552
URL:https://www.onekidsplace.ca/event/beach-volleyball-smash/
LOCATION:Waubuno Beach\, Parry Sound\, Ontario
CATEGORIES:Family Event,Fundraiser,Parry Sound
END:VEVENT
BEGIN:VEVENT
DTSTART;TZID=America/Toronto:20250710T100000
DTEND;TZID=America/Toronto:20250710T140000
DTSTAMP:20260423T103159
CREATED:20250703T180431Z
LAST-MODIFIED:20250703T180431Z
UID:10000208-1752141600-1752156000@www.onekidsplace.ca
SUMMARY:Charity Car Wash & BBQ
DESCRIPTION:Our friends from the North Bay Police Service will be hosting a charity car wash and BBQ in the OKP parking lot and back playground area on THURSDAY\, July 10th from 10 AM to 2 PM. \nAll proceeds will support the Make-A-Wish Foundation \n. \n 
URL:https://www.onekidsplace.ca/event/charity-car-wash-bbq/
LOCATION:North Bay – One Kids Place\, 400 McKeown Avenue\, North Bay\, Ontario\, Canada
CATEGORIES:Family Event,Fundraiser,North Bay
END:VEVENT
BEGIN:VEVENT
DTSTART;VALUE=DATE:20250402
DTEND;VALUE=DATE:20250403
DTSTAMP:20260423T103159
CREATED:20250117T142507Z
LAST-MODIFIED:20250117T142507Z
UID:10000187-1743552000-1743638399@www.onekidsplace.ca
SUMMARY:World Autism Awareness Day
DESCRIPTION:
URL:https://www.onekidsplace.ca/event/world-autism-awareness-day/
CATEGORIES:Autism Services,Family Event,Huntsville,Muskoka,North Bay,Parry Sound
END:VEVENT
BEGIN:VEVENT
DTSTART;TZID=America/Toronto:20250310T080000
DTEND;TZID=America/Toronto:20250314T170000
DTSTAMP:20260423T103159
CREATED:20250117T141711Z
LAST-MODIFIED:20250117T141711Z
UID:10000185-1741593600-1741971600@www.onekidsplace.ca
SUMMARY:March Break
DESCRIPTION:It’s March Break! \n       
URL:https://www.onekidsplace.ca/event/march-break-2/
CATEGORIES:Family Event,Holiday,Huntsville,Muskoka,North Bay,Parry Sound
END:VEVENT
BEGIN:VEVENT
DTSTART;TZID=America/Toronto:20250306T160000
DTEND;TZID=America/Toronto:20250306T200000
DTSTAMP:20260423T103159
CREATED:20250117T141327Z
LAST-MODIFIED:20250117T141327Z
UID:10000116-1741276800-1741291200@www.onekidsplace.ca
SUMMARY:2025 Plasma Car Races
DESCRIPTION:Thursday\, March 6 is the Plasma Car Races in support of One Kids Place Autism Services. \nSo much fun!!
URL:https://www.onekidsplace.ca/event/2025-plasma-car-races/
CATEGORIES:Autism Services,Family Event,Fundraiser,North Bay
END:VEVENT
BEGIN:VEVENT
DTSTART;TZID=America/Toronto:20250222T080000
DTEND;TZID=America/Toronto:20250222T140000
DTSTAMP:20260423T103159
CREATED:20250117T141102Z
LAST-MODIFIED:20250117T141102Z
UID:10000115-1740211200-1740232800@www.onekidsplace.ca
SUMMARY:Ride for Jack 2025
DESCRIPTION:The 2025 Ride for Jack is back! \nSaturday\, February 22\, 2025 \nRegister today!
URL:https://www.onekidsplace.ca/event/ride-for-jack-2025/
CATEGORIES:Autism Services,Family Event,Fundraiser,North Bay
END:VEVENT
BEGIN:VEVENT
DTSTART;VALUE=DATE:20250217
DTEND;VALUE=DATE:20250218
DTSTAMP:20260423T103159
CREATED:20250117T140358Z
LAST-MODIFIED:20250117T140713Z
UID:10000114-1739750400-1739836799@www.onekidsplace.ca
SUMMARY:Family Day
DESCRIPTION:It’s Family Day! \nJoin One Kids Place at the Callander Community Centre\, 1984 Swale Street\, for a Family Day breakfast event. \n8:30am to 11am \npancakes\, community spirit and lots of fun! \n  \n                   \n 
URL:https://www.onekidsplace.ca/event/family-day-2/
CATEGORIES:Family Event,Holiday,North Bay
END:VEVENT
BEGIN:VEVENT
DTSTART;VALUE=DATE:20250214
DTEND;VALUE=DATE:20250215
DTSTAMP:20260423T103159
CREATED:20250212T210332Z
LAST-MODIFIED:20250212T210332Z
UID:10000189-1739491200-1739577599@www.onekidsplace.ca
SUMMARY:Happy Valentine's Day
DESCRIPTION:
URL:https://www.onekidsplace.ca/event/happy-valentines-day/
CATEGORIES:Family Event,Holiday,Huntsville,Muskoka,North Bay,Parry Sound
END:VEVENT
BEGIN:VEVENT
DTSTART;TZID=America/Toronto:20241129T113000
DTEND;TZID=America/Toronto:20241129T133000
DTSTAMP:20260423T103159
CREATED:20241028T140848Z
LAST-MODIFIED:20250107T210203Z
UID:10000108-1732879800-1732887000@www.onekidsplace.ca
SUMMARY:Italian Lunch event
DESCRIPTION:
URL:https://www.onekidsplace.ca/event/15283/
LOCATION:Davedi Club North Bay\, 313 Airport Road\, North Bay
CATEGORIES:Family Event,North Bay
ATTACH;FMTTYPE=image/png:https://www.onekidsplace.ca/wp-content/uploads/2024/10/Italian-Lunch-Instagram-Post-1.png
END:VEVENT
BEGIN:VEVENT
DTSTART;VALUE=DATE:20241120
DTEND;VALUE=DATE:20241121
DTSTAMP:20260423T103159
CREATED:20241028T140719Z
LAST-MODIFIED:20241028T140719Z
UID:10000107-1732060800-1732147199@www.onekidsplace.ca
SUMMARY:National Child Day
DESCRIPTION:
URL:https://www.onekidsplace.ca/event/national-child-day/
CATEGORIES:Family Event,Huntsville,Muskoka,North Bay,Parry Sound
END:VEVENT
BEGIN:VEVENT
DTSTART;VALUE=DATE:20241114
DTEND;VALUE=DATE:20241115
DTSTAMP:20260423T103159
CREATED:20241028T140124Z
LAST-MODIFIED:20241028T140604Z
UID:10000184-1731542400-1731628799@www.onekidsplace.ca
SUMMARY:NoahStrong Jersey Day
DESCRIPTION:The NoahStrong organization emerged from the enormous impact of Noah Dugas who humbly united and inspired communities through exemplary values of kindness\, compassion\, determination and bravery. \nJersey Day is way to remember and bring awareness to his legacy.
URL:https://www.onekidsplace.ca/event/noahstrong-jersey-day/
CATEGORIES:Family Event,Huntsville,Muskoka,North Bay,Parry Sound
END:VEVENT
BEGIN:VEVENT
DTSTART;VALUE=DATE:20241031
DTEND;VALUE=DATE:20241101
DTSTAMP:20260423T103200
CREATED:20240812T170159Z
LAST-MODIFIED:20240812T170159Z
UID:10000167-1730332800-1730419199@www.onekidsplace.ca
SUMMARY:It's Halloween!
DESCRIPTION:Be safe and have fun!
URL:https://www.onekidsplace.ca/event/its-halloween/
CATEGORIES:Family Event,Huntsville,Muskoka,North Bay,Parry Sound
END:VEVENT
BEGIN:VEVENT
DTSTART;TZID=America/Toronto:20241011T070000
DTEND;TZID=America/Toronto:20241014T170000
DTSTAMP:20260423T103200
CREATED:20240812T140800Z
LAST-MODIFIED:20240812T140800Z
UID:10000158-1728630000-1728925200@www.onekidsplace.ca
SUMMARY:Thanksgiving Holiday
DESCRIPTION:Thanksgiving is an annual holiday celebrating the harvest and other blessings of the past year. \nA great opportunity to say thank you to those in your life that have made an impact or helped you. \nOur offices will be closed for the weekend\, reopening on Tuesday October 15\, 2024. \nHappy Thanksgiving to all our children\, youth\, families and community champions!
URL:https://www.onekidsplace.ca/event/thanksgiving-holiday/
CATEGORIES:Family Event,Holiday,Huntsville,Muskoka,North Bay,Parry Sound
END:VEVENT
BEGIN:VEVENT
DTSTART;TZID=America/Toronto:20241001T060000
DTEND;TZID=America/Toronto:20241031T110000
DTSTAMP:20260423T103200
CREATED:20240924T152503Z
LAST-MODIFIED:20240924T152503Z
UID:10000183-1727762400-1730372400@www.onekidsplace.ca
SUMMARY:October is Occupational Therapy Month!
DESCRIPTION:Occupational Therapy is a service to promote self-care activities\, productive play and leisure activities for children that might display: \n\nlow muscle tone\nfine motor delays; including: colouring\, drawing\, cutting\, printing\npoor play skills\ndifficulty focusing and paying attention\nfeeding difficulties\nclumsy/awkward movements\n\nIf you have questions\, reach out to us today!
URL:https://www.onekidsplace.ca/event/october-is-occupational-therapy-month/
CATEGORIES:Family Event,Huntsville,Muskoka,North Bay,Parry Sound
END:VEVENT
BEGIN:VEVENT
DTSTART;VALUE=DATE:20240930
DTEND;VALUE=DATE:20241001
DTSTAMP:20260423T103200
CREATED:20240812T143019Z
LAST-MODIFIED:20240812T143019Z
UID:10000161-1727654400-1727740799@www.onekidsplace.ca
SUMMARY:National Day for Truth and Reconciliation
DESCRIPTION:  \n  \nEach year\, September 30 marks the National Day for Truth and Reconciliation. \nThe day honours the children who never returned home and Survivors of residential schools\, as well as their families and communities. \nBoth the National Day for Truth and Reconciliation and Orange Shirt Day take place on September 30. \nOrange Shirt Day is an Indigenous-led grassroots commemorative day intended to raise awareness of the individual\, family and community inter-generational impacts of residential schools\, and to promote the concept of “Every Child Matters”.  The orange shirt is a symbol of the stripping away of culture\, freedom and self-esteem experienced by Indigenous children over generations. \nWe encourage everyone to wear orange today to honour the thousands of Survivors of residential schools.
URL:https://www.onekidsplace.ca/event/national-day-for-truth-and-reconciliation-2/
CATEGORIES:Family Event,Huntsville,Muskoka,North Bay,Parry Sound
END:VEVENT
BEGIN:VEVENT
DTSTART;TZID=America/Toronto:20240914T100000
DTEND;TZID=America/Toronto:20240914T133000
DTSTAMP:20260423T103200
CREATED:20240826T190636Z
LAST-MODIFIED:20240826T190738Z
UID:10000168-1726308000-1726320600@www.onekidsplace.ca
SUMMARY:2nd Annual Meet a Machine Day
DESCRIPTION:Join us for this free\, fun\, hands on event allows you to touch\, explore and get up close and personal with a variety of different machines and vehicles. \n10am to 1:30pm \n447 McKeown Ave – MTO Government Building \nCome and explore!
URL:https://www.onekidsplace.ca/event/2nd-annual-meet-a-machine-day/
CATEGORIES:Family Event,Fundraiser,North Bay
END:VEVENT
BEGIN:VEVENT
DTSTART;VALUE=DATE:20240903
DTEND;VALUE=DATE:20240904
DTSTAMP:20260423T103200
CREATED:20240812T152047Z
LAST-MODIFIED:20240812T152047Z
UID:10000165-1725321600-1725407999@www.onekidsplace.ca
SUMMARY:First Day of School 2024
DESCRIPTION:OKP is wishing all our students\, teachers\, EAs and all school staff a wonderful first day back to school! \n 
URL:https://www.onekidsplace.ca/event/first-day-of-school-2024/
CATEGORIES:Family Event,Huntsville,Muskoka,North Bay,Parry Sound
END:VEVENT
BEGIN:VEVENT
DTSTART;TZID=America/Toronto:20240830T080000
DTEND;TZID=America/Toronto:20240902T170000
DTSTAMP:20260423T103200
CREATED:20240812T150600Z
LAST-MODIFIED:20240812T150654Z
UID:10000164-1725004800-1725296400@www.onekidsplace.ca
SUMMARY:The last Long Weekend of Summer
DESCRIPTION: 
URL:https://www.onekidsplace.ca/event/14559/
CATEGORIES:Family Event,Holiday,Huntsville,Muskoka,North Bay,Parry Sound
END:VEVENT
END:VCALENDAR