BEGIN:VCALENDAR
VERSION:2.0
PRODID:-//One Kids Place - ECPv6.15.20//NONSGML v1.0//EN
CALSCALE:GREGORIAN
METHOD:PUBLISH
X-ORIGINAL-URL:https://www.onekidsplace.ca
X-WR-CALDESC:Events for One Kids Place
REFRESH-INTERVAL;VALUE=DURATION:PT1H
X-Robots-Tag:noindex
X-PUBLISHED-TTL:PT1H
BEGIN:VTIMEZONE
TZID:America/Toronto
BEGIN:DAYLIGHT
TZOFFSETFROM:-0500
TZOFFSETTO:-0400
TZNAME:EDT
DTSTART:20240310T070000
END:DAYLIGHT
BEGIN:STANDARD
TZOFFSETFROM:-0400
TZOFFSETTO:-0500
TZNAME:EST
DTSTART:20241103T060000
END:STANDARD
BEGIN:DAYLIGHT
TZOFFSETFROM:-0500
TZOFFSETTO:-0400
TZNAME:EDT
DTSTART:20250309T070000
END:DAYLIGHT
BEGIN:STANDARD
TZOFFSETFROM:-0400
TZOFFSETTO:-0500
TZNAME:EST
DTSTART:20251102T060000
END:STANDARD
BEGIN:DAYLIGHT
TZOFFSETFROM:-0500
TZOFFSETTO:-0400
TZNAME:EDT
DTSTART:20260308T070000
END:DAYLIGHT
BEGIN:STANDARD
TZOFFSETFROM:-0400
TZOFFSETTO:-0500
TZNAME:EST
DTSTART:20261101T060000
END:STANDARD
END:VTIMEZONE
BEGIN:VEVENT
DTSTART;TZID=America/Toronto:20250728T083000
DTEND;TZID=America/Toronto:20250801T163000
DTSTAMP:20260423T092608
CREATED:20250703T171545Z
LAST-MODIFIED:20250703T173146Z
UID:10000203-1753691400-1754065800@www.onekidsplace.ca
SUMMARY:Special Needs Summer Camp- Nature Quest: An Outdoor Adventure week
DESCRIPTION:This week\, our campers are stepping into the great outdoors for a week full of exploring\, discovering\, and connecting with nature!  \nFrom forest walks to nature jewelry making .. every day is an adventure waiting to happen. \nEvery Child   Every Ability   Every Adventure
URL:https://www.onekidsplace.ca/event/special-needs-summer-camp-nature-quest-an-outdoor-adventure/
LOCATION:North Bay – One Kids Place\, 400 McKeown Avenue\, North Bay\, Ontario\, Canada
CATEGORIES:Camp,North Bay
END:VEVENT
BEGIN:VEVENT
DTSTART;TZID=America/Toronto:20250805T083000
DTEND;TZID=America/Toronto:20250808T163000
DTSTAMP:20260423T092608
CREATED:20250703T171754Z
LAST-MODIFIED:20250703T173346Z
UID:10000204-1754382600-1754670600@www.onekidsplace.ca
SUMMARY:Special Needs Summer Camp- Genius Lab: STEM Invent\, Create\, and Explore week
DESCRIPTION:This week\, our campers are stepping into our OKP Genius Lab\, where curiosity leads the way! \nFrom building\, experimenting\, and designing to exploring the world of science\, tech\, engineering\, and math\, we’re sparking creativity\, innovation and fun. \nEvery Child   Every Ability   Every Adventure
URL:https://www.onekidsplace.ca/event/special-needs-summer-camp-genius-lab-stem-invent-create-and-explore/
LOCATION:North Bay – One Kids Place\, 400 McKeown Avenue\, North Bay\, Ontario\, Canada
CATEGORIES:Camp,North Bay
END:VEVENT
BEGIN:VEVENT
DTSTART;TZID=America/Toronto:20250811T083000
DTEND;TZID=America/Toronto:20250815T163000
DTSTAMP:20260423T092608
CREATED:20250703T171953Z
LAST-MODIFIED:20250703T171953Z
UID:10000205-1754901000-1755275400@www.onekidsplace.ca
SUMMARY:Special Needs Summer Camp-Splash Spectacular: Water Wonders week
DESCRIPTION:Get ready to dive into a week of wet and wild fun! \nFrom water games to splash pad adventures and creative water play our campers are making waves and soaking up the summer sun. \nEvery Child\, Every Ability\, Every Adventure
URL:https://www.onekidsplace.ca/event/special-needs-summer-camp-splash-spectacular-water-wonders-week/
LOCATION:North Bay – One Kids Place\, 400 McKeown Avenue\, North Bay\, Ontario\, Canada
CATEGORIES:Camp,North Bay
END:VEVENT
BEGIN:VEVENT
DTSTART;TZID=America/Toronto:20250818T083000
DTEND;TZID=America/Toronto:20250822T163000
DTSTAMP:20260423T092608
CREATED:20250703T172719Z
LAST-MODIFIED:20250703T172719Z
UID:10000206-1755505800-1755880200@www.onekidsplace.ca
SUMMARY:Special Needs Summer Camp- Master Chef Jr: OKP edition week
DESCRIPTION:Our campers are cooking up creativity in the kitchen this week! From tasty snacks to fun food challenges\, it’s all about trying new things\, learning kitchen skills\, and celebrating the joy of cooking. \nGet ready for delicious fun\, messy masterpieces\, and lots of proud little chefs! \nEvery Child   Every Ability   Every Adventure
URL:https://www.onekidsplace.ca/event/special-needs-summer-camp-master-chef-jr-okp-edition-week/
LOCATION:North Bay – One Kids Place\, 400 McKeown Avenue\, North Bay\, Ontario\, Canada
CATEGORIES:Camp,North Bay
END:VEVENT
END:VCALENDAR