BEGIN:VCALENDAR
VERSION:2.0
PRODID:-//One Kids Place - ECPv6.15.20//NONSGML v1.0//EN
CALSCALE:GREGORIAN
METHOD:PUBLISH
X-WR-CALNAME:One Kids Place
X-ORIGINAL-URL:https://www.onekidsplace.ca
X-WR-CALDESC:Events for One Kids Place
REFRESH-INTERVAL;VALUE=DURATION:PT1H
X-Robots-Tag:noindex
X-PUBLISHED-TTL:PT1H
BEGIN:VTIMEZONE
TZID:America/Toronto
BEGIN:DAYLIGHT
TZOFFSETFROM:-0500
TZOFFSETTO:-0400
TZNAME:EDT
DTSTART:20240310T070000
END:DAYLIGHT
BEGIN:STANDARD
TZOFFSETFROM:-0400
TZOFFSETTO:-0500
TZNAME:EST
DTSTART:20241103T060000
END:STANDARD
BEGIN:DAYLIGHT
TZOFFSETFROM:-0500
TZOFFSETTO:-0400
TZNAME:EDT
DTSTART:20250309T070000
END:DAYLIGHT
BEGIN:STANDARD
TZOFFSETFROM:-0400
TZOFFSETTO:-0500
TZNAME:EST
DTSTART:20251102T060000
END:STANDARD
BEGIN:DAYLIGHT
TZOFFSETFROM:-0500
TZOFFSETTO:-0400
TZNAME:EDT
DTSTART:20260308T070000
END:DAYLIGHT
BEGIN:STANDARD
TZOFFSETFROM:-0400
TZOFFSETTO:-0500
TZNAME:EST
DTSTART:20261101T060000
END:STANDARD
END:VTIMEZONE
BEGIN:VEVENT
DTSTART;TZID=America/Toronto:20250707T083000
DTEND;TZID=America/Toronto:20250711T163000
DTSTAMP:20260423T105850
CREATED:20250703T170527Z
LAST-MODIFIED:20250703T173429Z
UID:10000200-1751877000-1752251400@www.onekidsplace.ca
SUMMARY:Special Needs Summer Camp- Superhero Academy week
DESCRIPTION:Our campers are gearing up to welcome some special guests and show off their own incredible superpowers! From kindness and creativity to courage and friendship\, we know the real heroes are right here at camp. \nEvery Child   Every Ability   Every Adventure \n \n 
URL:https://www.onekidsplace.ca/event/special-needs-summer-camp-superhero-academy/
LOCATION:North Bay – One Kids Place\, 400 McKeown Avenue\, North Bay\, Ontario\, Canada
CATEGORIES:Camp,North Bay
END:VEVENT
BEGIN:VEVENT
DTSTART;TZID=America/Toronto:20250714T083000
DTEND;TZID=America/Toronto:20250718T163000
DTSTAMP:20260423T105850
CREATED:20250703T170754Z
LAST-MODIFIED:20250703T173303Z
UID:10000201-1752481800-1752856200@www.onekidsplace.ca
SUMMARY:Summer Need Summer Camp- OKP Spotlight: Show Your Star Power week
DESCRIPTION:This week at camp\, we’re turning up the lights and letting every camper shine! \nWhether it’s through music\, art\, dance\, storytelling\, or just being their amazing selves\, it’s time to show off those talents and celebrate what makes each of us a STAR! \nEvery Child   Every Ability   Every Adventure
URL:https://www.onekidsplace.ca/event/summer-need-summer-camp-okp-spotlight-show-your-star-power/
LOCATION:Ontario
CATEGORIES:Camp,North Bay
END:VEVENT
BEGIN:VEVENT
DTSTART;TZID=America/Toronto:20250721T083000
DTEND;TZID=America/Toronto:20250725T163000
DTSTAMP:20260423T105850
CREATED:20250703T171210Z
LAST-MODIFIED:20250703T173225Z
UID:10000202-1753086600-1753461000@www.onekidsplace.ca
SUMMARY:Special Needs Summer Camp- Jack Lyons Edition week
DESCRIPTION:Let the games begin! This week\, our campers are going for gold in the OKP Olympics\, celebrating fun\, friendship\, new experiences and friendly competition. \nEvery Child   Every Ability   Every Adventure
URL:https://www.onekidsplace.ca/event/special-needs-summer-camp-jack-lyons-edition/
LOCATION:North Bay – One Kids Place\, 400 McKeown Avenue\, North Bay\, Ontario\, Canada
CATEGORIES:Camp,North Bay
END:VEVENT
BEGIN:VEVENT
DTSTART;TZID=America/Toronto:20250728T083000
DTEND;TZID=America/Toronto:20250801T163000
DTSTAMP:20260423T105850
CREATED:20250703T171545Z
LAST-MODIFIED:20250703T173146Z
UID:10000203-1753691400-1754065800@www.onekidsplace.ca
SUMMARY:Special Needs Summer Camp- Nature Quest: An Outdoor Adventure week
DESCRIPTION:This week\, our campers are stepping into the great outdoors for a week full of exploring\, discovering\, and connecting with nature!  \nFrom forest walks to nature jewelry making .. every day is an adventure waiting to happen. \nEvery Child   Every Ability   Every Adventure
URL:https://www.onekidsplace.ca/event/special-needs-summer-camp-nature-quest-an-outdoor-adventure/
LOCATION:North Bay – One Kids Place\, 400 McKeown Avenue\, North Bay\, Ontario\, Canada
CATEGORIES:Camp,North Bay
END:VEVENT
END:VCALENDAR